BEGIN:VCALENDAR
VERSION:2.0
X-WR-TIMEZONE:Europe/Paris
PRODID:-//Audencia//NONSGML v1.0//EN
CALSCALE:GREGORIAN
BEGIN:VEVENT
SUMMARY:CASABLANCA | Around the World
DTSTART:20260422T190000
DTEND:20260422T213000
UID:2372
DTSTAMP:20260423T003209
LOCATION:Maison des Alumni Rue du Corail Casablanca
DESCRIPTION:Around the World 2026 débute au Maroc!\n\nLe chapter Audencia Alumni Maroc est ravi de vous convier à une conférence sur le thème\nLa transformation du groupe OCP portée par une vision d'avenir\n\nGuest speakers\n\n\n	 Aida Bakkali, Chief Corporate Strategy Officer, Goupe OCP\n	Marie-Françoise Marie-Nelly (GE 78), Présidente du Comité de Campagne de la Fondation Audencia, Ex-Banque Mondiale\n\n\nOCP est leader mondial des engrais phosphatés qui transforme les ressources naturelles du Maroc en solutions pour l’agriculture durable à l’échelle internationale.\n\nLe Fondation Audencia soutient le développement de l’École et contribue à son rayonnement en France et à l’International, agir pour la diversité et l’inclusion et rend accessible les études supérieures à tous, développe une recherche à impact en lien avec les expertises de l’Ecole.\n\nDate: Le mercredi 22 avril 2026\nHoraire: A partir de 19h\nLieu: Maison des Alumni, Rue du Corail, Casablanca\n\n\nInscription gratuite mais obligatoire\nNombre de places limité\nPour toute question, contactez votre ambassadeur Yassine\n \n\n
BEGIN:VALARM
ACTION:DISPLAY
TRIGGER:-PT60M
DESCRIPTION:CASABLANCA | Around the World
END:VALARM
END:VEVENT
END:VCALENDAR