BEGIN:VCALENDAR
VERSION:2.0
X-WR-TIMEZONE:Europe/Paris
PRODID:-//Audencia//NONSGML v1.0//EN
CALSCALE:GREGORIAN
BEGIN:VEVENT
SUMMARY:BARCELONA | Around the World
DTSTART:20260505T190000
DTEND:20260505T223000
UID:2374
DTSTAMP:20260423T003300
LOCATION:TBC
DESCRIPTION:SAVE THE DATE\n\n\n\nQuestions ? : nushad.merchant@audencia.com\n 
BEGIN:VALARM
ACTION:DISPLAY
TRIGGER:-PT60M
DESCRIPTION:BARCELONA | Around the World
END:VALARM
END:VEVENT
END:VCALENDAR