BEGIN:VCALENDAR
VERSION:2.0
X-WR-TIMEZONE:Europe/Paris
PRODID:-//Audencia//NONSGML v1.0//EN
CALSCALE:GREGORIAN
BEGIN:VEVENT
SUMMARY:MADRID | Around the World
DTSTART:20260506T190000
DTEND:20260506T223000
UID:2375
DTSTAMP:20260423T003331
LOCATION:TBC
DESCRIPTION:SAVE THE DATE\n\n\n\nQuestions? : nushad.merchant@audencia.com
BEGIN:VALARM
ACTION:DISPLAY
TRIGGER:-PT60M
DESCRIPTION:MADRID | Around the World
END:VALARM
END:VEVENT
END:VCALENDAR