BEGIN:VCALENDAR
VERSION:2.0
X-WR-TIMEZONE:Europe/Paris
PRODID:-//Audencia//NONSGML v1.0//EN
CALSCALE:GREGORIAN
BEGIN:VEVENT
SUMMARY:CCI FRANCE CHINE EVENT | [Conference] Marketing with AI: From Trends to Tactical Execution
DTSTART:20260415T123000
DTEND:20260415T140000
UID:2377
DTSTAMP:20260420T143610
LOCATION:CCI FRANCE CHINE Shanghai office, 6th floor, No. 88 Changshu Road 常熟路88号6楼中国法国工商会上海办公室
DESCRIPTION:\n\nEvent Introduction\n\nAs artificial intelligence continues to reshape the marketing landscape, companies are moving beyond experimentation and facing a critical challenge: how to translate AI into tangible business impact.\nWhile generative AI and autonomous agents are unlocking new levels of efficiency and creativity, many organisations still struggle to move from tools to results:\n\n\n	pressure to deliver measurable ROI\n	optimise costs\n	empower lean teams\n\nFor multinational companies operating in China, this transformation is even more complex, requiring alignment with a fast-evolving local ecosystem and strict regulatory frameworks.\n\n \n\nAgenda\n\nIn this session, Custouch’s CTO will share practical and field-tested insights into how leading companies are successfully integrating AI into their marketing operations. From strategy to execution, this session will provide a clear roadmap to turn AI into a real performance driver.\n\nYou will:\n\n\n	Identify high-impact AI use cases that deliver measurable business value\n	Learn how to enhance marketing efficiency through AI-driven workflows\n	Gain insights into how leading companies are deploying AI in China\n\n\n\nDetails\n\nDate:  Wednesday, April 15th\n\nTime: 6:30 PM - 8:00 PM\n\nLanguage: English\n\nLocation: CCI FRANCE CHINE Shanghai office, 6th floor, No. 88, Changshu Road, 常熟路88号6楼中国法国工商会上海办公室\n \n\nQuestions? tcliu@audencia.com
BEGIN:VALARM
ACTION:DISPLAY
TRIGGER:-PT60M
DESCRIPTION:CCI FRANCE CHINE EVENT | [Conference] Marketing with AI: From Trends to Tactical Execution
END:VALARM
END:VEVENT
END:VCALENDAR