BEGIN:VCALENDAR
VERSION:2.0
X-WR-TIMEZONE:Europe/Paris
PRODID:-//Audencia//NONSGML v1.0//EN
CALSCALE:GREGORIAN
BEGIN:VEVENT
SUMMARY:SHANGHAI | Around the World
DTSTART:20260425T100000
DTEND:20260425T130000
UID:2380
DTSTAMP:20260423T003300
LOCATION:Gumei Park, No. 799 Pingji Road, Minhang District, Shanghai
DESCRIPTION:\n\n2026年度Audencia Around the World正式拉开帷幕！\n \n阳春四月，春暖花开。Audencia上海校友会诚邀大家参与 本年度第一场校友活动，暨Audencia Around the World上海站。\n﻿\n📅时间：4月25日（周六）16:00\n📍地点：古美公园\n\n\n\n\n\n \nQuestions? tcliu@audencia.com\n\nAround the World events begin on 23 April 2026 and travel to cities on all five continents in a few weeks' time. This event is for alumni and students who are currently living and working in different cities worldwide. For its 2026 edition, Audencian ambassadors around the world are being creative, inventive and resourceful in devising activities for their alumni communities, around the theme of "Nature". Your challenge, should you choose to accept it, is to join them! \n\n\nDiscover what else is happening in our global network here, and if you can’t find an event taking place near you, drop us a line, and we’ll help you set one up!
BEGIN:VALARM
ACTION:DISPLAY
TRIGGER:-PT60M
DESCRIPTION:SHANGHAI | Around the World
END:VALARM
END:VEVENT
END:VCALENDAR