BEGIN:VCALENDAR
VERSION:2.0
X-WR-TIMEZONE:Europe/Paris
PRODID:-//Audencia//NONSGML v1.0//EN
CALSCALE:GREGORIAN
BEGIN:VEVENT
SUMMARY:SHENZHEN | Around the World
DTSTART:20260516T080000
DTEND:20260516T100000
UID:2381
DTSTAMP:20260423T003311
LOCATION:广东省深圳市南山区后海滨路3288号(后海地铁站A出口)
DESCRIPTION:\n\n2026年度Audencia Around the World正式拉开帷幕！\n \n为契合本次的“自然”主题，Audencia深圳校友会特邀大家一起进行一场沉浸式光息疗愈，在冥想中放松身心，在宁静中找回自己。\n﻿\n📅时间：5月16日（周六）14:00\n📍地点：后海汇\n﻿\n\n \n\n\n \nQuestions? tcliu@audencia.com\n\n\nAround the World events begin on 23 April 2026 and travel to cities on all five continents in a few weeks' time. This event is for alumni and students who are currently living and working in different cities worldwide. For its 2026 edition, Audencian ambassadors around the world are being creative, inventive and resourceful in devising activities for their alumni communities, around the theme of "Nature". Your challenge, should you choose to accept it, is to join them! \n \nDiscover what else is happening in our global network here, and if you can’t find an event taking place near you, drop us a line, and we’ll help you set one up!
BEGIN:VALARM
ACTION:DISPLAY
TRIGGER:-PT60M
DESCRIPTION:SHENZHEN | Around the World
END:VALARM
END:VEVENT
END:VCALENDAR