BEGIN:VCALENDAR
VERSION:2.0
X-WR-TIMEZONE:Europe/Paris
PRODID:-//Audencia//NONSGML v1.0//EN
CALSCALE:GREGORIAN
BEGIN:VEVENT
SUMMARY:CHENGDU | Around the World
DTSTART:20260516T040000
DTEND:20260516T080000
UID:2382
DTSTAMP:20260423T003259
LOCATION:成都市中和湿地公园城市星野绿道营地 成都绕城绿道与朝阳横街交叉口东北方向45米
DESCRIPTION:\n\n\n春风正好，露营赴约。\n        \n法国南特高等商学院成都校友会2026春季露营活动来袭！\n\n2026年度Audencia Around the World活动成都站将于2026年5月16日（星期六）在绿道露营地举办，活动主题“风遇山止，心向春行”。\n\n现场有露营烤肉及芬兰木棋、腰旗、国王游戏等趣味互动游戏，全程专业摄影记录美好瞬间，是春日踏青、放松交友的绝佳机会！\n\n报名已开启，请及时锁定席位，共聚开启露营欢乐派对。\n \n\n\n \n\nQuestions? tcliu@audencia.com\n \nAround the World events begin on 23 April 2026 and travel to cities on all five continents in a few weeks' time. This event is for alumni and students who are currently living and working in different cities worldwide. For its 2026 edition, Audencian ambassadors around the world are being creative, inventive and resourceful in devising activities for their alumni communities, around the theme of "Nature". Your challenge, should you choose to accept it, is to join them! \n \nDiscover what else is happening in our global network here, and if you can’t find an event taking place near you, drop us a line, and we’ll help you set one up!
BEGIN:VALARM
ACTION:DISPLAY
TRIGGER:-PT60M
DESCRIPTION:CHENGDU | Around the World
END:VALARM
END:VEVENT
END:VCALENDAR