BEGIN:VCALENDAR
VERSION:2.0
X-WR-TIMEZONE:Europe/Paris
PRODID:-//Audencia//NONSGML v1.0//EN
CALSCALE:GREGORIAN
BEGIN:VEVENT
SUMMARY:BERLIN | Around the World
DTSTART:20260430T183000
DTEND:20260430T213000
UID:2383
DTSTAMP:20260423T003208
LOCATION:Café am Neuen See, Lichtensteinallee, Berlin, Germany
DESCRIPTION:\n\n\n🌿 First get-together of the year – Save the date!\n\nIt's time to kick off 2026 🎉\n\nJoin us on Thursday, 30 April, for our first get-together of the year!\n\nThis time, we're going with the theme of Nature 🌿 (as part of Audencia Around the World), and we'll be meeting at Café am Neuen See, right in the heart of the Tiergarten.\n\n📍 Café am Neuen See\n🕡 6.30 pm\n\nA spot by the water, perfect for a relaxed get-together over a drink and to enjoy the arrival of the warmer weather.\n\nSave the date, and we look forward to seeing lots of you at this first get-together of the year! 🍻🌿\n\n------------------------------------------\n\n🌿 Premier pot de l’année – Save the date!\n\nOn lance les hostilités 2026 🎉\n\nRendez-vous le jeudi 30 avril pour notre premier Get Together de l’année !\n\nCette fois, on part sur un thème Nature 🌿 (dans le cadre d’Audencia Around the World), et on se retrouve au Café am Neuen See, en plein Tiergarten.\n\n📍 Café am Neuen See\n🕡 18h30\n\nUn spot au bord de l’eau, parfait pour se retrouver tranquillement autour d’un verre et profiter du retour des beaux jours.\n\nNotez la date, et hâte de vous voir nombreux pour ce premier pot de l’année ! 🍻🌿\n \n\n \nQuestions? tcliu@audencia.com\n\n\nAround the World events begin on 23 April 2026 and travel to cities on all five continents in a few weeks' time. This event is for alumni and students who are currently living and working in different cities worldwide. For its 2026 edition, Audencian ambassadors around the world are being creative, inventive and resourceful in devising activities for their alumni communities, around the theme of "Nature". Your challenge, should you choose to accept it, is to join them! \n\nDiscover what else is happening in our global network here, and if you can’t find an event taking place near you, drop us a line, and we’ll help you set one up!\n
BEGIN:VALARM
ACTION:DISPLAY
TRIGGER:-PT60M
DESCRIPTION:BERLIN | Around the World
END:VALARM
END:VEVENT
END:VCALENDAR