BEGIN:VCALENDAR
VERSION:2.0
X-WR-TIMEZONE:Europe/Paris
PRODID:-//Audencia//NONSGML v1.0//EN
CALSCALE:GREGORIAN
BEGIN:VEVENT
SUMMARY:AMSTERDAM | Around the World
DTSTART:20260512T183000
DTEND:20260512T213000
UID:2387
DTSTAMP:20260423T003301
LOCATION:Pllek, T.T. Neveritaweg 59, 1033 WB Amsterdam, Netherlands
DESCRIPTION:\n\n\n ☀️ Let’s meet in Pllek at 6:30 pm. \n\n⛴️ How to go: take the free ferry from Amsterdam Centraal for 14 min. Every 15 min. \n\n🍹 One drink will be offered by Audencia Alumni 🥳\n\nTake care and see you soon! \n\n------------------------------------------------------------------------------------------------\n\n☀️ Rendez-vous à Pllek à partir de 18h30 ! \n\n⛴️ Pour y aller : 14 min de ferry gratuit depuis Amsterdam Central, direction NDSM. Toutes les 15 min.\n\n🍹 Un verre sera offert par Audencia Alumni. \n\nPrenez soin de vous et à très vite !\n \n\n\n \n\nQuestions? tcliu@audencia.com\n\nAround the World events begin on 23 April 2026 and travel to cities on all five continents in a few weeks' time. This event is for alumni and students who are currently living and working in different cities worldwide. For its 2026 edition, Audencian ambassadors around the world are being creative, inventive and resourceful in devising activities for their alumni communities, around the theme of "Nature". Your challenge, should you choose to accept it, is to join them! \n \nDiscover what else is happening in our global network here, and if you can’t find an event taking place near you, drop us a line, and we’ll help you set one up!
BEGIN:VALARM
ACTION:DISPLAY
TRIGGER:-PT60M
DESCRIPTION:AMSTERDAM | Around the World
END:VALARM
END:VEVENT
END:VCALENDAR