BEGIN:VCALENDAR
VERSION:2.0
X-WR-TIMEZONE:Europe/Paris
PRODID:-//Audencia//NONSGML v1.0//EN
CALSCALE:GREGORIAN
BEGIN:VEVENT
SUMMARY:GENEVA | Around the World
DTSTART:20260510T100000
DTEND:20260510T160000
UID:2388
DTSTAMP:20260423T003311
LOCATION:Col du Mollendruz, 1328, Mont-la-Ville, Suisse
DESCRIPTION:\n\n \n\nOn the agenda: 🚶‍♂️🚶‍♀️🥾 a lovely day-long hike in the Swiss mountains (1h from Geneva),  with a cosy lunch at a mountain chalet in the middle of the hike ⛰️🍽️🧀\n\nThe meeting point is at 10 am at the parking lot of Col du Mollendruz, Mont-la-Ville, Switzerland. \n\nThis 14 km hike overlooks Lake Joux, with a lunch break at the Buvette de Châtel (the Audencia Alumni team will cover part of your expense). \n\nLooking forward to spending this time with you!\n\n--------------------------------------------------------------------------------------\n\nAu programme : 🚶‍♂️🚶‍♀️🥾une belle randonnée en montagne sur la journée dans les montagnes suisses (à 1 h de Genève), ponctuée par un déjeuner convivial dans un chalet de montagne à mi-parcours ⛰️🍽️🧀\n\nRDV à 10 h au parking du Col du Mollendruz, Mont-la-Ville, Suisse. \n\nLa rando de 14 km surplombe le lac de Joux, avec une halte pour le déjeuner à la Buvette de Châtel (l'équipe Audencia Alumni prendra en charge une partie de votre dépense). \n\nHâte de partager ce moment avec vous !\n \n\n\n \n\nQuestions? tcliu@audencia.com\n\nAround the World events begin on 23 April 2026 and travel to cities on all five continents in a few weeks' time. This event is for alumni and students who are currently living and working in different cities worldwide. For its 2026 edition, Audencian ambassadors around the world are being creative, inventive and resourceful in devising activities for their alumni communities, around the theme of "Nature". Your challenge, should you choose to accept it, is to join them! \n \nDiscover what else is happening in our global network here, and if you can’t find an event taking place near you, drop us a line, and we’ll help you set one up!
BEGIN:VALARM
ACTION:DISPLAY
TRIGGER:-PT60M
DESCRIPTION:GENEVA | Around the World
END:VALARM
END:VEVENT
END:VCALENDAR