BEGIN:VCALENDAR
VERSION:2.0
X-WR-TIMEZONE:Europe/Paris
PRODID:-//Audencia//NONSGML v1.0//EN
CALSCALE:GREGORIAN
BEGIN:VEVENT
SUMMARY:FRANKFURT | Around the World
DTSTART:20260508T183000
DTEND:20260508T213000
UID:2389
DTSTAMP:20260423T003142
LOCATION:Weinschirn, Römerberg 8, 60311 Frankfurt am Main, Germany
DESCRIPTION:\n\n \n\nFor its 2026 edition, Audencia Around the World is coming to Frankfurt for the first time! \n\nTogether with alumna Gwenael FERRET (GE 16), we'd like to invite you to a casual gathering where you can meet fellow Audencians in the area. Please note the following information and register yourself directly on this page (by logging into your Audencia account): \n\nDate & Time: Friday 8 May, 18:30 onwards\nAdresse: Weinschirn, Römerberg 8, 60311 Frankfurt am Main, Germany\n \n\n\n\n \n\nQuestions? tcliu@audencia.com\n\n \nAround the World events begin on 23 April 2026 and travel to cities on all five continents in a few weeks' time. This event is for alumni and students who are currently living and working in different cities worldwide. For its 2026 edition, Audencian ambassadors around the world are being creative, inventive and resourceful in devising activities for their alumni communities, around the theme of "Nature". Your challenge, should you choose to accept it, is to join them! \n \nDiscover what else is happening in our global network here, and if you can’t find an event taking place near you, drop us a line, and we’ll help you set one up!
BEGIN:VALARM
ACTION:DISPLAY
TRIGGER:-PT60M
DESCRIPTION:FRANKFURT | Around the World
END:VALARM
END:VEVENT
END:VCALENDAR