BEGIN:VCALENDAR
VERSION:2.0
X-WR-TIMEZONE:Europe/Paris
PRODID:-//Audencia//NONSGML v1.0//EN
CALSCALE:GREGORIAN
BEGIN:VEVENT
SUMMARY:MUNICH | Around the World
DTSTART:20260424T180000
DTEND:20260424T220000
UID:2398
DTSTAMP:20260423T003259
LOCATION:Café Gans am Wasser, Siegenburger Straße, Munich-Sendling-Westpark, Germany
DESCRIPTION:\n\n\nHi there!\n\nFor this year's Audencia Around the World, of which the theme is "Nature", we'd like to propose an outdoor gathering along the Mollsee in Westpark.\n\nOn the agenda: chats, drinks, live music and much more! One drink will be offered by the Audencia Alumni team. 🍹\n \nDate & Time: Friday 24 April 18:00\nVenue: Café Gans am Wasser\n\nLooking forward to seeing you there! \n\n\n\n \n\nQuestions? tcliu@audencia.com\n\n \n\nAround the World events begin on 23 April 2026 and travel to cities on all five continents in a few weeks' time. This event is for alumni and students who are currently living and working in different cities worldwide. For its 2026 edition, Audencian ambassadors around the world are being creative, inventive and resourceful in devising activities for their alumni communities, around the theme of "Nature". Your challenge, should you choose to accept it, is to join them! \n\n \n\nDiscover what else is happening in our global network here, and if you can’t find an event taking place near you, drop us a line, and we’ll help you set one up!
BEGIN:VALARM
ACTION:DISPLAY
TRIGGER:-PT60M
DESCRIPTION:MUNICH | Around the World
END:VALARM
END:VEVENT
END:VCALENDAR