BEGIN:VCALENDAR
VERSION:2.0
X-WR-TIMEZONE:Europe/Paris
PRODID:-//Audencia//NONSGML v1.0//EN
CALSCALE:GREGORIAN
BEGIN:VEVENT
SUMMARY:TORONTO | Keynote session with AAGEF: From legacy to lifestyle, the Club Med journey
DTSTART:20260429T180000
DTEND:20260429T210000
UID:2402
DTSTAMP:20260423T003144
LOCATION:CSI Spadina 192 Spadina Ave Toronto M5T 2C2
DESCRIPTION:AAGEF invites you to join Laura Hendel, Agency Manager, Club Med Toronto, for a keynote session entitled "From legacy to lifestyle, the Club Med journey"\n\nDate: Wednesday 29 April 2026\nTime: from 6pm\nVenue: CSI Spadina, 192 Spadina Avenue, Toronto M5T 2C2\n\n\nThis presentation will trace how Club Med successfully transformed a beloved legacy brand into a modern lifestyle powerhouse while preserving the DNA that made it iconic. Through strategic repositioning, innovation, and a deep understanding of evolving consumer expectations, Club Med has redefined premium all‑inclusive travel for a new generation.\n\nThe session will be led by Laura Hendel, Agency Manager, Club Med Toronto, who will share firsthand insights into the brand’s evolution, key strategic decisions, and the business lessons that resonate far beyond the travel industry.\n\nWhy attend?\n\n\n	Gain executive‑level insights into brand transformation and long‑term relevance\n	Learn how legacy organizations can successfully adapt to changing market dynamics\n	Engage with peers in an intimate, thought‑provoking setting\n	Take away practical perspectives applicable across industries\n	Whether you are leading transformation, managing brand equity, or navigating growth in a competitive market, this presentation offers valuable inspiration and actionable takeaways.\n\n\nWe look forward to welcoming you to an evening of ideas, dialogue, and strategic perspective.\n\n\nAgenda :\n6 pm : Networking\n7 pm : Presentation - Q&A\n7:45 pm : Networking\n\n\nREGISTRATION\n\n\n \n\n\n\n\nAAGEF Ontario, with over 2,000 executives, is a networking association of French Elite Graduate Schools alumni, living and working in Ontario. We also welcome Ontario-based alumni of Canadian and global Elite Universities. \n\n\nFollow us on LinkedIn. \nWe also have a whatsapp group - feel free to join https://chat.whatsapp.com/IWYZDMqqfG1L5uBiz8Z1Sq\n\n\n\n \n\n \n\n \n\n\n\n\n 
BEGIN:VALARM
ACTION:DISPLAY
TRIGGER:-PT60M
DESCRIPTION:TORONTO | Keynote session with AAGEF: From legacy to lifestyle, the Club Med journey
END:VALARM
END:VEVENT
END:VCALENDAR