BEGIN:VCALENDAR
VERSION:2.0
X-WR-TIMEZONE:Europe/Paris
PRODID:-//Audencia//NONSGML v1.0//EN
CALSCALE:GREGORIAN
BEGIN:VEVENT
SUMMARY:ASSOCIATION AUDENCIA ALUMNI | Assemblée Générale
DTSTART:20260519T180000
DTEND:20260519T200000
UID:2403
DTSTAMP:20260423T020526
LOCATION:
DESCRIPTION:Chère diplômée Audencia, Cher diplômé Audencia,\n \nL'Association Audencia Alumni a le plaisir de vous convier à son Assemblée Générale annuelle, qui aura lieu le mardi 19 mai à 18h00, en ligne.\n\n>> Pour accéder à l’AG le jour J : Cliquez ici pour participer à la réunion <<  \n\nL’ordre du jour sera le suivant :\n\n	Présentation du rapport moral de 2025\n	Présentation du rapport financier de 2025\n	Candidatures au conseil d’administration\n	Questions diverses\n\n\nPour voter, connectez-vous à la plateforme puis identifiez vous avez l'adresse mail avec laquelle vous vous connectez sur Together.\n\n\n	\n	\n\n\n \n\nAu plaisir de vous retrouver en ligne lors de notre assemblée générale !\n\nSi vous souhaitez de plus amples informations, vous pouvez prendre contact avec nous via audenciaalumni@audencia.com.\n\nEmmanuel Dupeux (GE 04)\nPrésident de l'association Audencia Alumni
BEGIN:VALARM
ACTION:DISPLAY
TRIGGER:-PT60M
DESCRIPTION:ASSOCIATION AUDENCIA ALUMNI | Assemblée Générale
END:VALARM
END:VEVENT
END:VCALENDAR