BEGIN:VCALENDAR
VERSION:2.0
X-WR-TIMEZONE:Europe/Paris
PRODID:-//Audencia//NONSGML v1.0//EN
CALSCALE:GREGORIAN
BEGIN:VEVENT
SUMMARY:SYDNEY | Networking with French Business School Alumni in Australia
DTSTART:20260506T093000
DTEND:20260506T113000
UID:2404
DTSTAMP:20260423T003331
LOCATION:Amora Hotel Jamison  11 Jamison Street Sydney
DESCRIPTION:Make new connections at the FBSAA (French Business School Alumni in Australia) event\n\nCome and join the social gathering for the global business school alumni to network. This is an independently organised social event for alumni from the French Business School Alumni in Australia, the Australian Graduate School of Management (AGSM) and Esade to make new connections and share your experiences and inspiration for the future.\n\nPlease feel free to forward to fellow alumni in your network.\n\nBYO drinks and food at the bar\n\nIf the event appears to be fully booked - please register on the waitlist.\nDATE: Wednesday 6 May 2026\nTIME: 5:30 PM - 7:30 PM\nVENUE: Amora Hotel, 11 Jamison Street, Sydney\n\nREGISTRATION LINK\n\n \n
BEGIN:VALARM
ACTION:DISPLAY
TRIGGER:-PT60M
DESCRIPTION:SYDNEY | Networking with French Business School Alumni in Australia
END:VALARM
END:VEVENT
END:VCALENDAR