BEGIN:VCALENDAR
VERSION:2.0
X-WR-TIMEZONE:Europe/Paris
PRODID:-//Audencia//NONSGML v1.0//EN
CALSCALE:GREGORIAN
BEGIN:VEVENT
SUMMARY:LAGOS | Around the World
DTSTART:20260509T100000
DTEND:20260509T120000
UID:2405
DTSTAMP:20260423T003331
LOCATION:Lagos Exact venue tbc
DESCRIPTION:\n\n \n\n\nAudencia Alumni in Lagos are celebrating Around the World and it's alum Oluwaseun Ojambati (MSc FAM 2018) who is putting your city on the map.\n\nCome and join him and fellow alumni for an informal gathering on Saturday 9 May - as soon as we have full details of times and places, we'll share them here.\n\nSo, watch this space!\n\n\n \n\nAround the World events begin on 23 April 2026 and travel to cities on all five continents in a few weeks' time. This event is for alumni and students who are currently living and working in different cities worldwide. For its 2026 edition, Audencian ambassadors around the world are being creative, inventive and resourceful in devising activities for their alumni communities, around the theme of "Nature". Your challenge, should you choose to accept it, is to join them! \n \nDiscover what else is happening in our global network here, and if you can’t find an event taking place near you, drop us a line, and we’ll help you set one up!
BEGIN:VALARM
ACTION:DISPLAY
TRIGGER:-PT60M
DESCRIPTION:LAGOS | Around the World
END:VALARM
END:VEVENT
END:VCALENDAR