BEGIN:VCALENDAR
VERSION:2.0
X-WR-TIMEZONE:Europe/Paris
PRODID:-//Audencia//NONSGML v1.0//EN
CALSCALE:GREGORIAN
BEGIN:VEVENT
SUMMARY:SEOUL | [FRANCE ALUMNI DAY] Cérémonie de présentation de la 4e promotion des « Visages France alumni Corée »
DTSTART:20260514T070000
DTEND:20260514T090000
UID:2407
DTSTAMP:20260423T003209
LOCATION:Résidence de l'ambassade de France en République de Corée
DESCRIPTION:Le premier temps fort du France Alumni Day Corée sera la cérémonie de présentation de la 4e promotion des « Visages France Alumni Corée », qui réunira plus d’une centaine de participants : boursiers du gouvernement français, alumni des promotions précédentes, représentants associatifs, personnalités du monde culturel, politique et économique, ainsi que les acteurs de l’Équipe France. Organisée le 14 mai 2026 à la Résidence de France, cette réception phare de l’année pour l’Ambassade bénéficiera également du soutien de l’entreprise L’Oréal.\n\nL’événement a une double vocation : rassembler des alumni issus de domaines variés afin de favoriser les échanges avec des partenaires et employeurs potentiels, et présenter officiellement la nouvelle promotion des « Visages ».\n\nCe programme met à l’honneur, tous les deux à trois ans, dix alumni sélectionnés en concertation avec l’Équipe France, dont les parcours illustrent la richesse et l’impact des études en France. La promotion 2026 reflète une diversité de profils et respecte une parité équilibrée entre femmes et hommes.
BEGIN:VALARM
ACTION:DISPLAY
TRIGGER:-PT60M
DESCRIPTION:SEOUL | [FRANCE ALUMNI DAY] Cérémonie de présentation de la 4e promotion des « Visages France alumni Corée »
END:VALARM
END:VEVENT
END:VCALENDAR