BEGIN:VCALENDAR
VERSION:2.0
X-WR-TIMEZONE:Europe/Paris
PRODID:-//Audencia//NONSGML v1.0//EN
CALSCALE:GREGORIAN
BEGIN:VEVENT
SUMMARY:SAO PAULO | Around the World
DTSTART:20260507T190000
DTEND:20260507T220000
UID:2408
DTSTAMP:20260423T003208
LOCATION:TBD
DESCRIPTION:\n \nFor its 2026 edition, Audencians in Sao Paulo will be gathering for an afterwork on the occasion of Corinne Lamour's visit to the city along with her MSc FAM students.\n\nDate: Thursday 7 May\nTime: 7PM\nVenue: TBC\n\n \n\n\nQuestions?: nushad.merchant@audencia.com\n \n\nAround the World events begin on 23 April 2026 and travel to cities on all five continents in a few weeks' time. This event is for alumni and students who are currently living and working in different cities worldwide. For its 2026 edition, Audencian ambassadors around the world are being creative, inventive and resourceful in devising activities for their alumni communities, around the theme of "Nature". Your challenge, should you choose to accept it, is to join them! \n \nDiscover what else is happening in our global network here, and if you can’t find an event taking place near you, drop us a line, and we’ll help you set one up!
BEGIN:VALARM
ACTION:DISPLAY
TRIGGER:-PT60M
DESCRIPTION:SAO PAULO | Around the World
END:VALARM
END:VEVENT
END:VCALENDAR