BEGIN:VCALENDAR
VERSION:2.0
X-WR-TIMEZONE:Europe/Paris
PRODID:-//Audencia//NONSGML v1.0//EN
CALSCALE:GREGORIAN
BEGIN:VEVENT
SUMMARY:EFMD Global Fairs by Highered 2026
DTSTART:20260422T070000
DTEND:20260423T190000
UID:2411
DTSTAMP:20260423T003436
LOCATION:
DESCRIPTION:\n\nStop scrolling through endless job boards and start talking to the people who actually do the hiring.\n\nThe EFMD Global Fairs by Highered are back, bringing the world's top employers directly to your screen for an exclusive, multi-university career event.\n\nWhether you are hunting for an internship that actually teaches you something or a graduate role that kicks off your career, this is where you find "What’s Next."\n\n📅 Mark Your Calendar\n22-23 April 2026\n7:00 AM – 7:00 PM CEST\nVirtual Event – Join from anywhere.\n﻿\n• Day 1 (22nd): Career Development Day - get tips on how to prepare and grow in the career market. Join webinars and get access to resources to grow career skills, how to use AI in job-searching and make the most of the fair.\n\n• Day 2 (23rd): Job & Recruiters Day - engage directly with recruiters, explore job and internship opportunities, and attend company presentations to learn more about potential employers and get real life insights.\n\nThis is an interactive recruitment ecosystem built for the EFMD network.\n\nReal Conversations: No "noreply" emails here. Chat live with recruiters from global brands in finance, tech, consulting, and more.\n\nGlobal Reach: Access international roles that aren't advertised on local boards.\n\nZero Cost: As a student at a member school, your entry is already covered.\n\nReady to take the next step?\n\nRegistration is quick, free, and exclusive to our member universities. Sign up now on CareerOS to receive updates and information.
BEGIN:VALARM
ACTION:DISPLAY
TRIGGER:-PT60M
DESCRIPTION:EFMD Global Fairs by Highered 2026
END:VALARM
END:VEVENT
END:VCALENDAR