BEGIN:VCALENDAR
VERSION:2.0
X-WR-TIMEZONE:Europe/Paris
PRODID:-//Audencia//NONSGML v1.0//EN
CALSCALE:GREGORIAN
BEGIN:VEVENT
SUMMARY:KINSHASA | Around the World
DTSTART:20260509T100000
DTEND:20260509T170000
UID:2413
DTSTAMP:20260423T003313
LOCATION:Institut Français 33 Avenue de la Gombe Kinshasa
DESCRIPTION:\n\n \n\nÀ l’occasion du France Alumni Day 2026, l’Institut français de Kinshasa met à l’honneur le réseau France Alumni en République démocratique du Congo autour du thème « Talents scientifiques : découvrir, innover, entreprendre ».\n\nCette journée réunira alumni congolais formés en France, chercheurs, entrepreneurs, partenaires institutionnels et acteurs du monde académique pour valoriser les parcours et les contributions des talents formés en France au développement du Congo.\n\nAu programme dès 10h00 le samedi 9 mai : tables rondes sur les mobilités scientifiques, l’innovation et la coopération scientifique entre la France et la RDC, ateliers pratiques pour les alumni, stand de photos professionnelles et moments de networking.\n\nL’événement sera également l’occasion de mettre en lumière les femmes en sciences entre la France et la RDC, avant un cocktail convivial favorisant les échanges au sein de la communauté France Alumni.\n\nEvènement sur invitation et sur inscription\n\n\n \n\n\n \n\n\n\n \n\n\nAround the World events begin on 23 April 2026 and travel to cities on all five continents in a few weeks' time. This event is for alumni and students who are currently living and working in different cities worldwide. For its 2026 edition, Audencian ambassadors around the world are being creative, inventive and resourceful in devising activities for their alumni communities, around the theme of "Nature". Your challenge, should you choose to accept it, is to join them! \n \nDiscover what else is happening in our global network here, and if you can’t find an event taking place near you, drop us a line, and we’ll help you set one up!
BEGIN:VALARM
ACTION:DISPLAY
TRIGGER:-PT60M
DESCRIPTION:KINSHASA | Around the World
END:VALARM
END:VEVENT
END:VCALENDAR