BEGIN:VCALENDAR
VERSION:2.0
X-WR-TIMEZONE:Europe/Paris
PRODID:-//Audencia//NONSGML v1.0//EN
CALSCALE:GREGORIAN
BEGIN:VEVENT
SUMMARY:LONDON | Around the World
DTSTART:20260424T200000
DTEND:20260424T230000
UID:2415
DTSTAMP:20260423T003210
LOCATION:The Audley Public House 41-43 Mount St London W1K 2RX
DESCRIPTION:\n \nFor its 2026 edition, Audencians in London will be gathering for an afterwork on the occasion of fellow alum & Alumni Relations Manager, Nushad Merchant's visit to the city.\n\nDate: Friday 24 April\nTime: 7PM\nVenue: The Audley Public House (41-43 Mount St, London W1K 2RX)\n\n \n\n\n\nQuestions?: nushad.merchant@audencia.com\n \n\nAround the World events begin on 23 April 2026 and travel to cities on all five continents in a few weeks' time. This event is for alumni and students who are currently living and working in different cities worldwide. For its 2026 edition, Audencian ambassadors around the world are being creative, inventive and resourceful in devising activities for their alumni communities, around the theme of "Nature". Your challenge, should you choose to accept it, is to join them! \n \nDiscover what else is happening in our global network here, and if you can’t find an event taking place near you, drop us a line, and we’ll help you set one up!
BEGIN:VALARM
ACTION:DISPLAY
TRIGGER:-PT60M
DESCRIPTION:LONDON | Around the World
END:VALARM
END:VEVENT
END:VCALENDAR