BEGIN:VCALENDAR
VERSION:2.0
X-WR-TIMEZONE:Europe/Paris
PRODID:-//Audencia//NONSGML v1.0//EN
CALSCALE:GREGORIAN
BEGIN:VEVENT
SUMMARY:VANCOUVER | Around the World
DTSTART:20260504T180000
DTEND:20260504T203000
UID:2416
DTSTAMP:20260423T003331
LOCATION:Vancouver - exact address tbc
DESCRIPTION:\n\n \n\n\nSo excited about this one as there are so many connections to be made - Join alumni and friends in Vancouver for an informal gathering on Monday 4 May from 18:00 to 20:30 - the exact venue will be revealed soon so register and watch this space!\n\n \n\n\n \n\nAround the World events begin on 23 April 2026 and travel to cities on all five continents in a few weeks' time. This event is for alumni and students who are currently living and working in different cities worldwide. For its 2026 edition, Audencian ambassadors around the world are being creative, inventive and resourceful in devising activities for their alumni communities, around the theme of "Nature". Your challenge, should you choose to accept it, is to join them! \n \nDiscover what else is happening in our global network here, and if you can’t find an event taking place near you, drop us a line, and we’ll help you set one up!
BEGIN:VALARM
ACTION:DISPLAY
TRIGGER:-PT60M
DESCRIPTION:VANCOUVER | Around the World
END:VALARM
END:VEVENT
END:VCALENDAR