BEGIN:VCALENDAR
VERSION:2.0
X-WR-TIMEZONE:Europe/Paris
PRODID:-//Audencia//NONSGML v1.0//EN
CALSCALE:GREGORIAN
BEGIN:VEVENT
SUMMARY:TORONTO | Around the World
DTSTART:20260507T180000
DTEND:20260507T210000
UID:2418
DTSTAMP:20260423T003311
LOCATION:Hart House – University of Toronto  7 Hart House Circle Toronto, ON M5S 3H3
DESCRIPTION:\n\n\nAround the World is joining France Alumni Day in Toronto on Thursday 7 May 2026\n \n\nDear members of the France alumni community, the Consulate General of France in Toronto and the French Embassy in Canada are delighted to invite you to the 4th edition of the France Alumni Days focused on a key theme: “Sciences and employability”\n \nJoin us on Thursday 7 May from 6:00PM at the University of Toronto Hart House for an evening dedicated to the France Alumni Canada community. \n\nWhy attend?\n • Connect with professionals and alumni from diverse backgrounds\n• Explore the intersection of science, careers and opportunities\n• Expand your network in a cheerful event \nTime: 6:00 PM – 9:00 PM\nLocation: Hart House – University of Toronto, 7 Hart House Circle, Toronto, ON M5S 3H3\n\nProgramme\n• Talks and testimonials\n• Discussions on the 2026 theme\n• Cocktail and networking\n \nReserve your spot now\nAs capacity is limited, registration is required. Free event.\n\nWe look forward to welcoming you,\nFrance Alumni Canada\n \n\n\n\n\nAround the World events begin on 23 April 2026 and travel to cities on all five continents in a few weeks' time. This event is for alumni and students who are currently living and working in different cities worldwide. For its 2026 edition, Audencian ambassadors around the world are being creative, inventive and resourceful in devising activities for their alumni communities, around the theme of "Nature". Your challenge, should you choose to accept it, is to join them! \n \nDiscover what else is happening in our global network here, and if you can’t find an event taking place near you, drop us a line, and we’ll help you set one up!
BEGIN:VALARM
ACTION:DISPLAY
TRIGGER:-PT60M
DESCRIPTION:TORONTO | Around the World
END:VALARM
END:VEVENT
END:VCALENDAR