BEGIN:VCALENDAR
VERSION:2.0
X-WR-TIMEZONE:Europe/Paris
PRODID:-//Audencia//NONSGML v1.0//EN
CALSCALE:GREGORIAN
BEGIN:VEVENT
SUMMARY:BRUSSELS | Around the World
DTSTART:20260512T180000
DTEND:20260512T220000
UID:2421
DTSTAMP:20260423T003436
LOCATION:TBC
DESCRIPTION:\n\nFor its 2026 edition, Audencians in Brussels will be gathering for an afterwork on the occasion of fellow alumna (MBA 2020) & Alumni Relations Manager at Audencia, Cici LIU's visit to the city.\n\nHope to see many of you there (a drink will be offered by the alumni team). \n\n\nDate: Tuesday 12 May\n\nTime: 18:00 onwards\n\nVenue: TBC\n\n\n \n\nQuestions? tcliu@audencia.com\n\n \nAround the World events begin on 23 April 2026 and travel to cities on all five continents in a few weeks' time. This event is for alumni and students who are currently living and working in different cities worldwide. For its 2026 edition, Audencian ambassadors around the world are being creative, inventive and resourceful in devising activities for their alumni communities, around the theme of "Nature". Your challenge, should you choose to accept it, is to join them! \n \nDiscover what else is happening in our global network here, and if you can’t find an event taking place near you, drop us a line, and we’ll help you set one up!
BEGIN:VALARM
ACTION:DISPLAY
TRIGGER:-PT60M
DESCRIPTION:BRUSSELS | Around the World
END:VALARM
END:VEVENT
END:VCALENDAR