BEGIN:VCALENDAR
VERSION:2.0
X-WR-TIMEZONE:Europe/Paris
PRODID:-//Audencia//NONSGML v1.0//EN
CALSCALE:GREGORIAN
BEGIN:VEVENT
SUMMARY:MONTREAL | Around the World
DTSTART:20260505T170000
DTEND:20260505T210000
UID:2422
DTSTAMP:20260423T003332
LOCATION:Walter Space Suite 500 (5ème étage) 5, rue Saint-Paul Ouest Montréal (Québec) H2Y 3V4
DESCRIPTION:\n\nAround the World fait escale à Montréal...\n\nLe mardi 5 mai de 17 à 21h au Walter Space, Suite 500 (5ème étage), 5, rue Saint-Paul Ouest, Montréal H2Y 3V4.\n\nUne soirée comme on les aime, du fromage, du vin, des alumni et tout cela dans un superbe lieu, le Walter Space.\n\nInscrivez-vous vite!\n\n \n\nAround the World events begin on 23 April 2026 and travel to cities on all five continents in a few weeks' time. This event is for alumni and students who are currently living and working in different cities worldwide. For its 2026 edition, Audencian ambassadors around the world are being creative, inventive and resourceful in devising activities for their alumni communities, around the theme of "Nature". Your challenge, should you choose to accept it, is to join them! \n \nDiscover what else is happening in our global network here, and if you can’t find an event taking place near you, drop us a line, and we’ll help you set one up!
BEGIN:VALARM
ACTION:DISPLAY
TRIGGER:-PT60M
DESCRIPTION:MONTREAL | Around the World
END:VALARM
END:VEVENT
END:VCALENDAR