BEGIN:VCALENDAR
VERSION:2.0
X-WR-TIMEZONE:Europe/Paris
PRODID:-//Audencia//NONSGML v1.0//EN
CALSCALE:GREGORIAN
BEGIN:VEVENT
SUMMARY:TROPHEE GOLF AUDENCIA 2018
DTSTART:20180629T123000
DTEND:20260426T010236
UID:249
DTSTAMP:20260426T010236
LOCATION:Golf de l'Ile d'Or 49270 La Varenne
DESCRIPTION:\nEVENEMENT EXCEPTIONNEL\nAU GOLF DE L'ILE D'OR\n- vendredi 29 juin - \n\n\nPlaces limitées - événement gratuit\n\n\nVenez partager une partie amicale de Golf à partir de 12h30 ou une soirée Réseau dans le cadre exceptionnel du Golf de l’Île d’Or !\n\n•    Vous aimez le golf ?  \nQuel que soit votre niveau, débutant ou professionnel, cette journée est pour vous ! \n - Pour les avertis : une formule de jeu ludique en Scramble à 3 - shotgun à 13h - qui permettra de découvrir et apprécier les particularités de ce parcours, ses frênes centenaires et son dessin de Michel Gayon.  \n - Pour les non golfeurs : une initiation est organisée en fin d’après-midi, 17h afin de finir cette journée tous ensemble lors de la remise des prix.\n\n\n•    Vous ne jouez pas au golf ?  \nAucun souci, rejoignez-nous au cocktail, offert par Audencia Alumni, vers 19h et profitez du magnifique Club House, de ses paysages incroyables sur la Loire sans jouer au golf. Vous pouvez également venir soutenir les golfeurs en tant que simples spectateurs.\n>> Places limitées - inscriptions ici...\nAmbiance garantie ! \n\n\nContacts : Michaël Thoby (EXEC-MBA 13) / Gérard Crépel (GE 79) \n\n\n \n
BEGIN:VALARM
ACTION:DISPLAY
TRIGGER:-PT60M
DESCRIPTION:TROPHEE GOLF AUDENCIA 2018
END:VALARM
END:VEVENT
END:VCALENDAR