BEGIN:VCALENDAR
VERSION:2.0
X-WR-TIMEZONE:Europe/Paris
PRODID:-//Audencia//NONSGML v1.0//EN
CALSCALE:GREGORIAN
BEGIN:VEVENT
SUMMARY:Afterwork in Hong Kong
DTSTART:20180704T190000
DTEND:20180704T220000
UID:285
DTSTAMP:20260426T010826
LOCATION:The Artist House 9 Kingston Street, Fashion Walk, Causeway Bay Hong Kong
DESCRIPTION:Join alumni and students from Audencia and emlyon for an afterwork gathering\n\nAudencia and emlyon alumni will be at The Artist House from 7pm on Wednesday 4th July:\n\nThe Artist House\n9 Kingston Street, Fashion Walk, Causeway Bay\nHong Kong\n\n  \nFor more information and to register\nFollow this link!\n\n\nA bientôt au 4 juillet,\nBenoit Zoetelief\n 
BEGIN:VALARM
ACTION:DISPLAY
TRIGGER:-PT60M
DESCRIPTION:Afterwork in Hong Kong
END:VALARM
END:VEVENT
END:VCALENDAR