BEGIN:VCALENDAR
VERSION:2.0
X-WR-TIMEZONE:Europe/Paris
PRODID:-//Audencia//NONSGML v1.0//EN
CALSCALE:GREGORIAN
BEGIN:VEVENT
SUMMARY:Parcours Complet Nouvel Elan 12/13 juin & 06/07 juillet 2017 (4 jours) : Définir, tester et déployer ton projet
DTSTART:20170612T083000
DTEND:20170612T170000
UID:30
DTSTAMP:20260426T001338
LOCATION:Paris
DESCRIPTION:Définir ton projet \n\nCe parcours est pour toi si tu as envie de changement et tu as besoin d'être accompagné pour :  \n1. Apprendre à bien te connaître pour faire les bons choix, en identifiant tes motivations, tes préférences et tes forces distinctives "ce que je suis"\n2. Définir tes possibilités d’évolution "ce que je veux être"\n3. Te positionner sur 3 cibles professionnelles pour développer des contacts réseau et mettre au point un plan d’action "ce que je fais faire"\n\nOutils & Méthodes\nAtelier interactif en groupe de 6 à 12 personnes\nEntretien individuel d'une heure\nMBTI®\nSTRONG®\n \nTester ton projet \n\nCe parcours est pour toi si tu as une première idée de reconversion, tu as besoin de la structurer et de l’enclencher. \n1. S’avoir utiliser l'entretien réseau pour approfondir ses pistes et ajuster son projet \n2. Construire un pitch inspirant et unique \n3. S'engager dans un plan d’action en identifiant les étapes\n\nOutils & Méthodes\nAtelier interactif en groupe de 6 à 12 personnes\nSimulation d'entretien Réseau\nFeedbacks du groupe\n \nDéployer ton projet \n\nCe parcours est pour toi si tu souhaites passer à l’action et tu as besoin de prendre confiance. \n1. Définir un plan d'action de mise en oeuvre \n2. Donner du relief à ses outils de communication : CV Pitch 3’, profil Linked In, ... \n3. Gagner en impact et en conviction dans son personnal branding lors des entretiens\n \nOutils & Méthodes\nAtelier interactif en groupe de 6 à 12 personnes \nSimulation entretiens / vidéos\nFeedbacks du groupe\nFeedbacks de spécialistes du recrutement\n \nINSCRIPTION A LA CARTE\n\nParcours 2 jours - 12 & 13 juin : Définir ton projet\nParcours 2 jours - 06 & 07 juillet : Tester et déployer ton projet
BEGIN:VALARM
ACTION:DISPLAY
TRIGGER:-PT60M
DESCRIPTION:Parcours Complet Nouvel Elan 12/13 juin & 06/07 juillet 2017 (4 jours) : Définir, tester et déployer ton projet
END:VALARM
END:VEVENT
END:VCALENDAR