BEGIN:VCALENDAR
VERSION:2.0
X-WR-TIMEZONE:Europe/Paris
PRODID:-//Audencia//NONSGML v1.0//EN
CALSCALE:GREGORIAN
BEGIN:VEVENT
SUMMARY:Vendanges au Domaine de la Fessardière, Vallet
DTSTART:20180901T093000
DTEND:20180901T170000
UID:303
DTSTAMP:20260421T165130
LOCATION:Domaine de la Fessardière  La Hersonnière  44330 VALLET
DESCRIPTION:Venez-vous vendanger le samedi 1er septembre ?\n\nLe temps des vacances arrive, profitez-en bien car en septembre, avant la rentrée, nous aurons besoin de vous. Venez vendanger avec nous à la Fessardière ! ​Le temps d'une journée, petits & grands, nous vous invitons à nous rejoindre.\n\nAu programme sous le soleil nantais : vendanges de nos vignes le matin, grande tablée conviviale pour déjeuner le midi, avec bien sûr dégustation de nos vins ! L'après-midi, tous autour du pressoir pour transformer les grappes en jus de raisin fraîchement pressé !\n\nL'objectif de cette journée : vous faire participer à l'élaboration du futur millésime 2018 en réalisant une étape cruciale de l'élaboration d'un vin et la première cuvée de l'année ! \n\nDress code : vêtements de pluie (au cas où), bottes, baskets ou chaussures de randonnée, casquettes et chapeaux (les bobs sont acceptés pour l'occasion) & surtout votre bonne humeur ! \n\nRENDEZ-VOUS :\n\n	le samedi 1er septembre\n	à 9h30\n	au Domaine de la Fessardière\n	La Hersonnière - 44 330 VALLET \n\n\nNous vous demanderons une participation de 5 euros pour le repas des vendangeurs. \n \nInscrivez-vous par mail ou par téléphone au 06 76 87 85 48\n\nA très vite pour fêter les vignes, le vin et la rentrée !\n \nL'équipe du Domaine de la Fessardière,\nEmeline, Anne-Sophie, Jérôme, François et Philippe\n\n \nNote : nous devons préciser qu'en vous inscrivant, vous prenez la responsabilité de vos activités sur le domaine et nous ne pourrons pas être tenus responsables en cas de blessure ou autre petit dégât.\n\n \n\nDomaine de la Fessardière \nLa Hersonnière 44330 VALLET \nwww.domaine-fessardiere.fr\n\n \n\n \n 
BEGIN:VALARM
ACTION:DISPLAY
TRIGGER:-PT60M
DESCRIPTION:Vendanges au Domaine de la Fessardière, Vallet
END:VALARM
END:VEVENT
END:VCALENDAR