BEGIN:VCALENDAR
VERSION:2.0
X-WR-TIMEZONE:Europe/Paris
PRODID:-//Audencia//NONSGML v1.0//EN
CALSCALE:GREGORIAN
BEGIN:VEVENT
SUMMARY:International Day: Networking with alumni, Audencia Atlantic Campus, Nantes
DTSTART:20180927T163000
DTEND:20180927T173000
UID:319
DTSTAMP:20260420T162358
LOCATION:
DESCRIPTION:"Crossing continents for your career"\n\n\n27 September is International Day at Audencia. \nThroughout the afternoon, students will have the opportunity to attend workshops focusing on international topics.\n\nIf there were any questions that you didn't have to opportunity to ask, register now (only 50 places available!) come and join the networking session:\n \n16:30-17:30\nInternational Lounge\nGround floor of the main building\nAtlantic campus
BEGIN:VALARM
ACTION:DISPLAY
TRIGGER:-PT60M
DESCRIPTION:International Day: Networking with alumni, Audencia Atlantic Campus, Nantes
END:VALARM
END:VEVENT
END:VCALENDAR