BEGIN:VCALENDAR
VERSION:2.0
X-WR-TIMEZONE:Europe/Paris
PRODID:-//Audencia//NONSGML v1.0//EN
CALSCALE:GREGORIAN
BEGIN:VEVENT
SUMMARY:Parcours Jeunes Diplômés : Déployer son projet
DTSTART:20170505T083000
DTEND:20170505T170000
UID:32
DTSTAMP:20260425T223439
LOCATION:Paris
DESCRIPTION:Un parcours à la carte \nDéfinir son projet | 28 avril | Paris\nDéployer son projet | 05 mai | Paris\n \nCe parcours est pour toi si : \n- Tu souhaites rejoindre la dynamique d’un groupe pour construire ton projet, renforcer tes talents et ta confiance \n- Tu es à la recherche de ton premier job / second job \n- Tu souhaites obtenir des conseils pour piloter ta carrière professionnelle\n \nDéployer son projet \nPour : \n1. Apprendre à bien communiquer : CV Pitch (réussir à bien se présenter en quelques minutes), profil Linked In, stratégie réseau... \n2. Se préparer aux entretiens & réussir en short-list : simulation d’entretien, négociation salariale, questions piège ...\n \nOutils & Méthode : \nAtelier interactif en groupe de 6 à 12 personnes \nDes simulations entretiens / vidéos\nDes feedbacks du groupe\nL'avis des spécialistes du recrutement\n\n \nINSCRIPTION A LA CARTE \n\nPromo 2014 & 2015\n2 Jours : Définir et déployer son projet \nJour 1 : Définir son projet \n\nPromo 2016 & 2017\n2 Jours : Définir et déployer son projet \nJour 1 : Définir son projet \nJour 2 : Déployer son projet 
BEGIN:VALARM
ACTION:DISPLAY
TRIGGER:-PT60M
DESCRIPTION:Parcours Jeunes Diplômés : Déployer son projet
END:VALARM
END:VEVENT
END:VCALENDAR