BEGIN:VCALENDAR
VERSION:2.0
X-WR-TIMEZONE:Europe/Paris
PRODID:-//Audencia//NONSGML v1.0//EN
CALSCALE:GREGORIAN
BEGIN:VEVENT
SUMMARY:Parcours Jeunes Diplômés 2016 : Définir son projet
DTSTART:20170428T083000
DTEND:20170428T170000
UID:34
DTSTAMP:20260425T223535
LOCATION:Paris
DESCRIPTION:Un parcours à la carte \nDéfinir son projet | 28 avril| Paris\nDéployer son projet | 05 mai | Paris\n \nCe parcours est pour toi si : \n- Tu souhaites rejoindre la dynamique d’un groupe pour construire ton projet, renforcer tes talents et ta confiance \n- Tu es à la recherche de ton premier job / second job \n- Tu souhaites obtenir des conseils pour piloter ta carrière professionnelle\n \nDéfinir son projet \nPour : \n1. Mieux se connaître pour avancer dans son projet \n2. Mieux connaître ses motivations pour décider de ses choix professionnels \n3. S'engager dans un plan d'action\n \nOutils & Méthodes : \nAtelier interactif en groupe de 6 à 12 personnes\nInventaire d'intérêts professionnels STRONG® (motivations) \n\n \nINSCRIPTION A LA CARTE \n\nPromo 2016 & 2017\n2 Jours : Définir et déployer son projet\nJour 2 : Déployer son projet \n\nPromo 2014 & 2015\n2 Jours : Définir et déployer son projet \nJour 1 : Définir son projet \nJour 2 : Déployer son projet 
BEGIN:VALARM
ACTION:DISPLAY
TRIGGER:-PT60M
DESCRIPTION:Parcours Jeunes Diplômés 2016 : Définir son projet
END:VALARM
END:VEVENT
END:VCALENDAR