BEGIN:VCALENDAR
VERSION:2.0
X-WR-TIMEZONE:Europe/Paris
PRODID:-//Audencia//NONSGML v1.0//EN
CALSCALE:GREGORIAN
BEGIN:VEVENT
SUMMARY:Audencian gathering at CES Las Vegas, USA
DTSTART:20190110T183000
DTEND:20190110T200000
UID:358
DTSTAMP:20260421T121143
LOCATION:The Dorsey Bar The Venitian Hotel
DESCRIPTION:\n\nOn the first leg of their learning expedition, six Audencia students are coming to Las Vegas for the Consumer Electronics Show.\n\nThey will be accompanied by Audencia alumni and staff, including :\n\n	Valérie Claude-Gaudillat (Director of Innovation)\n	Florence Alix-Gravellier (Head of Alumni Relations)\n	Marine Jegu (Development Officer)\n	Michaël Thoby (ExecMBA 13)\n	Lucie Gouanelle (GE 98 - San Francisco Chapter Ambassador)\n	François Macé (GE 79)\n\n\nWhether you live in Las Vegas full-time or are passing through for CES, just as Flavie Lorre (GE 98 - President of Audencia Alumni Association and Sanofi Business Intelligence Diabetes), this will be a great opportunity to get together, share impressions of the event and speed up those business connections.\n\nDate: Thursday 10 January\n\n	Time: 6.30pm\n	Venue: the Venitian (exact seating area to be confirmed via WhatsApp)\n\n \n\nIf you'd like to join the Audencia Alumni group, please reach out to Marine Jegu, by email (mjegu@audencia.com) including your name, firstname, cellphone number so we can add you to the Audencia in Vegas Whatsapp group and provide you with all details regarding this event.
BEGIN:VALARM
ACTION:DISPLAY
TRIGGER:-PT60M
DESCRIPTION:Audencian gathering at CES Las Vegas, USA
END:VALARM
END:VEVENT
END:VCALENDAR