BEGIN:VCALENDAR
VERSION:2.0
X-WR-TIMEZONE:Europe/Paris
PRODID:-//Audencia//NONSGML v1.0//EN
CALSCALE:GREGORIAN
BEGIN:VEVENT
SUMMARY:Audencian dinner in San Francisco, USA
DTSTART:20190112T183000
DTEND:20190112T220000
UID:359
DTSTAMP:20260421T133905
LOCATION:VIE Winery  448 Clipper Cove, San Francisco
DESCRIPTION:\n\nOn the second leg of their learning expedition, six Audencia students are coming to Silicon Valley. They will be accompanied by Audencia Alumni and staff members including : \n \n\n	Valérie Claude-Gaudillat (Director of Innovation)\n	Florence Alix-Gravellier (Head of Alumni Relations)\n	Marine Jegu (Development Officer)\n	Lucie Gouanelle (GE 98 - San Francisco Chapter Ambassador)\n	Michaël Thoby (ExecMBA 13)\n	François Macé (GE 79)\n\n\nThe School has the pleasure of inviting alumni living -or passing through- San Francisco to a French-themed network dinner. This event will allow you to reconnect with your school and participate in its outreach. Discover today's students, inspire them and be inspired in return. \n \n\n	Date: Saturday 12 January 2019\n	Time: from 6.30pm\n	Venue: VIE Winery on Treasure Island, 448 Clipper Cove, San Francisco. For directions to the winery, please follow this link!\n\n \n\nNo time to lose - register now!\n\n 
BEGIN:VALARM
ACTION:DISPLAY
TRIGGER:-PT60M
DESCRIPTION:Audencian dinner in San Francisco, USA
END:VALARM
END:VEVENT
END:VCALENDAR