BEGIN:VCALENDAR
VERSION:2.0
X-WR-TIMEZONE:Europe/Paris
PRODID:-//Audencia//NONSGML v1.0//EN
CALSCALE:GREGORIAN
BEGIN:VEVENT
SUMMARY:Afterwork gathering in Los Angeles, USA
DTSTART:20190116T183000
DTEND:20190116T200000
UID:360
DTSTAMP:20260421T121108
LOCATION:Heritage Fine Wines 467 North Canon Drive Beverly Hills, CA 90210
DESCRIPTION:In early 2019, a dedicated and enterprising group of Audencia staff, alumni and students are embarking on an American road trip that will stop in Los Angeles on Wednesday January 16. \n\n\n\nLet’s get to know each other! \n\nFor Audencia’s first visit to LA, come and join Audencia staff for an informal gathering which aims to share experiences and answer the question “What does daring mean to you?”\n \n\n	Florence Alix-Gravellier (Head of Alumni Relations at Audencia - Medallist at the Beijing 2008 Paralympic Games)\n	Marine Jegu (Development Officer at Audencia)\n\n\nWhether you live in Los Angeles full-time or are just passing through, please come along:\n \n\n	Date: Wednesday 16 January\n	Time: 6.30pm\n	Venue: Heritage Fine Wines, a wine tasting and piano bar located in Beverly Hills - 467 N Canon Drive\n\n \n\nRegister now!
BEGIN:VALARM
ACTION:DISPLAY
TRIGGER:-PT60M
DESCRIPTION:Afterwork gathering in Los Angeles, USA
END:VALARM
END:VEVENT
END:VCALENDAR