BEGIN:VCALENDAR
VERSION:2.0
X-WR-TIMEZONE:Europe/Paris
PRODID:-//Audencia//NONSGML v1.0//EN
CALSCALE:GREGORIAN
BEGIN:VEVENT
SUMMARY:Club Assurance - Afterwork
DTSTART:20190314T190000
DTEND:20190314T220000
UID:379
DTSTAMP:20260426T001437
LOCATION:AXA, 25 avenue Matignon, 75008 PARIS
DESCRIPTION:Chers membres du club assurance d’Audencia,\n\n \n\nJe suis ravie de vous convier au 2ème événement du club, qui se déroulera le jeudi 14 mars à partir de 19h !\n\n \n\nAu programme : \n\n\n	3 ou 4 ‘pitches’ suivis d’un cocktail informel\n	Les ‘pitch’ : ~10min de présentation par un membre du club + questions/réponses\n\n\nLes 2 pitch prévus sont :\n \n\n	« La fidélisation client en assurance » par Elise Savarese & Virginie Buquet (GE 02), Directrices chez Synaxia Conseil\n	« Les applications d’Intelligence Artificielle en assurance & Data Science on-demand » par Serguei Alechine (GE 05), Head of Business Development chez Ovotor\n\n\n \n\nCet événement aura lieu dans les locaux d'AXA (25 avenue Matignon, 75008 PARIS).\nPlus d’infos à suivre sur LinkedIn ici ou sur Together ici (inscriptions). N’hésitez pas à me contacter si vous avez des remarques / questions, et bien sûr à faire passer le mot autour de vous.\n\n \n\nNous étions une vingtaine au 1er afterwork l’an dernier, nous comptons maintenant plus de 100 membres sur la plateforme Together – je compte donc à nouveau sur vous pour votre présence !\n\n \n\nA très bientôt,\n\nOriane – Ambassadrice du club
BEGIN:VALARM
ACTION:DISPLAY
TRIGGER:-PT60M
DESCRIPTION:Club Assurance - Afterwork
END:VALARM
END:VEVENT
END:VCALENDAR