BEGIN:VCALENDAR
VERSION:2.0
X-WR-TIMEZONE:Europe/Paris
PRODID:-//Audencia//NONSGML v1.0//EN
CALSCALE:GREGORIAN
BEGIN:VEVENT
SUMMARY:Assemblée Générale Association Audencia Alumni (site Paris)
DTSTART:20190313T190000
DTEND:20190313T220000
UID:391
DTSTAMP:20260423T160115
LOCATION:95, rue Falguière, 75015 PARIS
DESCRIPTION:Chers Etudiants et Diplômés, \n\nL'équipe de l'association Audencia Alumni a le plaisir de vous convier à son Assemblée Générale annuelle, qui aura lieu à Paris (campus Audencia, Rue Falguière). \nAu programme : \n- 19h00 : Accueil et apéritif dînatoire\n- 20h00 : début de l'assemblée générale (ordre du jour détaillé à venir)\n- 22h00 : Clôture\n\nL'assemblée générale est ouverte à tous les diplômés d'Audencia Business School mais seuls les adhérents (à jour de cotisation) pourront prendre part au vote. Une convocation officielle (incluant pouvoirs,  appels à candidature) sera adressée par mail. Si toutefois vous ne l'aviez pas reçu ou souhaitez de plus amples renseignements, n'hésitez pas à prendre contact avec nous : audenciaalumni@audencia.com\n\nL'AG sera retransmise en direct dans une salle nantaise, permettant à ceux qui ne pourraient pas se déplacer à Paris de poser leurs questions et participer aux votes. Si vous souhaitez vous participer depuis Nantes, merci de vous inscrire dans l'événement "AG des diplômés - Nantes" pour faciliter l'organisation. 
BEGIN:VALARM
ACTION:DISPLAY
TRIGGER:-PT60M
DESCRIPTION:Assemblée Générale Association Audencia Alumni (site Paris)
END:VALARM
END:VEVENT
END:VCALENDAR