BEGIN:VCALENDAR
VERSION:2.0
X-WR-TIMEZONE:Europe/Paris
PRODID:-//Audencia//NONSGML v1.0//EN
CALSCALE:GREGORIAN
BEGIN:VEVENT
SUMMARY:Assemblée Générale Association Audencia Alumni (site NANTES- MEDIACAMPUS)
DTSTART:20190313T190000
DTEND:20190313T220000
UID:392
DTSTAMP:20260423T160646
LOCATION:MEDIACAMPUS 41 bd de la Prairie au Duc, Nantes
DESCRIPTION:Chers Etudiants et Diplômés, \n\nL'équipe de l'association Audencia Alumni a le plaisir de vous convier à son Assemblée Générale annuelle, qui aura lieu à Paris (campus Audencia, Rue Falguière). \n\nL'AG sera retransmise en direct. Vous pourrez donc suivre l'AG depuis le Médiacampus à Nantes, permettant à ceux qui ne pourraient pas se déplacer à Paris de poser leurs questions et participer aux votes. Si vous souhaitez participer depuis Nantes, inscrivez-vous ici ! Si vous souhaitez vous inscrire pour la salle Paris, rendez-vous dans l'événement intitulé "Assemblée Générale Audencia Alumni (site Paris)"\n\nAu programme : \n- 19h00 : Accueil et apéritif dînatoire\n- 20h00 : début de l'assemblée générale (ordre du jour détaillé à venir)\n- 22h00 : Clôture\n\nL'assemblée générale est ouverte à tous les diplômés d'Audencia Business School mais seuls les adhérents (à jour de cotisation) pourront prendre part au vote. Une convocation officielle (incluant pouvoirs, appels à candidature) sera adressée par mail. Si toutefois vous ne l'aviez pas reçu ou souhaitez de plus amples renseignements, n'hésitez pas à prendre contact avec nous : audenciaalumni@audencia.com\n 
BEGIN:VALARM
ACTION:DISPLAY
TRIGGER:-PT60M
DESCRIPTION:Assemblée Générale Association Audencia Alumni (site NANTES- MEDIACAMPUS)
END:VALARM
END:VEVENT
END:VCALENDAR