BEGIN:VCALENDAR
VERSION:2.0
X-WR-TIMEZONE:Europe/Paris
PRODID:-//Audencia//NONSGML v1.0//EN
CALSCALE:GREGORIAN
BEGIN:VEVENT
SUMMARY:Conférence "Explorateurs : ils osent tout" [Nantes]
DTSTART:20190516T183000
DTEND:20260422T113558
UID:442
DTSTAMP:20260422T113558
LOCATION:Salons des Floralies 7, quai Henri Barbusse 44000 Nantes
DESCRIPTION: \n\n\nVenez à la rencontre de ceux qui ont osé et qui vous donneront les clefs pour oser à votre tour !\n \n\nQui n’a jamais pensé tout quitter pour partir à l’autre bout du monde, suivre ses convictions, découvrir de nouveaux horizons ? Qui n’a jamais souhaité vivre ses rêves ou tester ses limites ? Pour la première fois à Nantes, nous vous proposons un nouveau format d'événement, une conférence audacieuse et inspirante, sur le thème :\n\n"Explorateurs : ils osent tout"\n\n- jeudi 16 mai à 18h30 aux Salons des Floralies de Nantes -\n\n[Gratuit - places limitées]\n \n\nLES EXPLORATEURS\n\nIls ont tenté l’aventure et en sont revenus transformés :\n \n\n	Matthieu TORDEUR, plus jeune explorateur français à atteindre le Pôle Sud en solitaire et en autonomie totale.\n\n\n\n\n\n   > 1150 km en 51 jours\n   > -50°C\n   > de 8 à 12h d'effort / jour\n   > 115 kg de traineau à tirer\n\nPlus jeune membre de la prestigieuse Société des Explorateurs Français (SEF), dont font partie Nicolas Hulot, Thomas Pesquet et Jean-Louis Etienne, Matthieu a déjà nagé, grimpé, navigué, roulé, marché dans 90 pays. A 27 ans seulement, et récemment rentré de son expédition dans le Grand Sud, Matthieu Tordeur reviendra, pour vous, sur ce challenge, son amour pour l’aventure et surtout la détermination qu'il lui a fallu pour atteindre cet objectif.\n \n\n \n\n\n	Christine BRUNIER (GE 80)\n\n \n \n\nChristine quitte tout, vend sa maison familiale pour réhabiliter un hôpital de brousse et s’occuper d’un village de lépreux au Cameroun pendant 2 ans, avec son mari. Une mission qui a changé sa vie !\n\n\n\n\n\n \n\n	Nonso CHUKWUMA (IMM 13)\n\n​  \n\n\nOriginaire du Nigéria, Nonso apprend tout, du français à la création d’une entreprise, pour fonder en 2014 ‘Chooka’, la boisson à l'hibiscus, plante importée de son pays. Il en rêvait, il l’a fait avec une production écoresponsable.\n\n\n\n\n \n\n	Océane LENOIR (IMM 11)\n\n​  \n \n\nOcéane parcourt l’Atlantique pendant un an sur un voilier de 12m, du Sénégal au Mexique en passant par la Colombie. Elle y pensait depuis quelques années et s’en est donné les moyens !\n\n\n\n\n\n\n \n\n \n\nVOTRE SOIREE\n\nRetrouvez-vous entre diplômés de tous les programmes et de toutes les promos d’Audencia pour vivre une aventure XXL avec une grande dose de convivialité et de plaisir partagé.\n\n\n	18h30 : Accueil\n	19h15 : Conférence\n	20h45 : Cocktail dinatoire\n	01h00 : Fin de soirée\n\n\n \n\n\n \n\n 
BEGIN:VALARM
ACTION:DISPLAY
TRIGGER:-PT60M
DESCRIPTION:Conférence "Explorateurs : ils osent tout" [Nantes]
END:VALARM
END:VEVENT
END:VCALENDAR