BEGIN:VCALENDAR
VERSION:2.0
X-WR-TIMEZONE:Europe/Paris
PRODID:-//Audencia//NONSGML v1.0//EN
CALSCALE:GREGORIAN
BEGIN:VEVENT
SUMMARY:Audencia Homecoming Day
DTSTART:20191012T133000
DTEND:20191013T010000
UID:459
DTSTAMP:20260425T202025
LOCATION:Audencia, 8 route de la jonelière, Nantes
DESCRIPTION:\n\nBienvenue à Audencia Homecoming Day\nvotre voyage à Nantes pour célébrer l’anniversaire de votre promotion démarre maintenant !\n \n\nAudencia, pour vous, c’était hier ou il y a plus longtemps ? L’école s’appelait peut-être encore Sup’ de Co, Ecole Atlantique de Commerce ou SciencesCom et votre diplôme PGE, IMM, Bachelor ou MS MOS. \nVous êtes restés quelques mois ou plusieurs années sur les bancs de l’amphi Edit de Nantes ou ailleurs à City Campus, à Paris, à Shenzhen.\nLes années passent mais les souvenirs restent : les camarades de promo, les professeurs, les lieux, les soirées… de révision, les assos et tellement d’autres choses qui vous rattachent à votre école.\n \nAudencia Homecoming Day, c’est une journée – ponctuée d’une soirée inoubliable – pour retrouver votre école, vos camarades, et tous les souvenirs précieux de vos années étudiantes.\n \n\nInscrivez-vous rapidement\nen cliquant sur le bouton bleu "s'inscrire" situé juste au-dessus des boutons Facebook/LinkedIn/Twitter\n \n\nEt diffusez largement l’invitation autour de vous pour ramener le plus grand nombre de vos camarades de promotion.\nNous célébrerons toutes les promotions mais bien sûr, les plus représentées se verront décerner un trophée spécial : alors, à vous de jouer !\n \n\n\nWelcome to the Audencia Homecoming Day\nyour journey to Nantes to celebrate your class anniversary starts here!​\n\nWas it only yesterday or longer ago than that? Perhaps Audencia was already Audencia or might still have been called Sup' de Co, Ecole Atlantique de Commerce or SciencesCom. Your degree could have been PGE, IMM, Bachelor, MS MOS or something else.\nWhether you stayed a few months or several years on the benches of the Edit de Nantes auditorium or elsewhere in City Campus, Paris or Shenzhen, the years go by but the memories remain: classmates, teachers, places, parties... revision, clubs and so many other things that connect you to your school. \n\nAudencia Homecoming will be a day – and an unforgettable evening – to be reacquainted with your school, your classmates, and all the memories of your student years. \n\n \nRegister now\nvia the blue "register" button just above the Facebook/LinkedIn/Twitter buttons\n\n\n\nPlease feel free to share this invitation with as many of your classmates as possible.\nWe will be celebrating all the class years but the one that has the most attendees will receive a special trophy: so the rest is up to you!\n \n\n \n\nProgramme\n\n13:30\nAccueil – sur le campus principal d’Audencia, Route de la Jonelière à Nantes\nWelcome – on the main Audencia campus, Route de la Jonelière, Nantes\n\n\n14:00\nLancement des festivités avec Christophe Germain, Directeur Général d’Audencia et Flavie Lorre, Présidente d’Audencia Alumni\nLaunch of festivities with Christophe Germain, Dean of Audencia and Flavie Lorre, President of Audencia Alumni\n\n\n14:15\nAudencia, d’hier à aujourd’hui – une série de flashbacks et flashforwards à vivre confortablement installés dans l’amphi Edit de Nantes\nAudencia, from yesterday to today – a series of flashbacks and flashforwards in the Edit de Nantes auditorium\n\n\n16:00\nPlongée au cœur d’Audencia – une visite immersive et animée de l’école, en compagnie de celles et ceux qui font Audencia aujourd’hui\nDive into the heart of Audencia – an immersive and animated visit of the school, in the company of those who are making their mark on Audencia today\n\n\n18:00\nFin de la 1ère partie – temps libre\nEnd of the 1st part – free time\n\n\n19:15\nSoirée Inoubliable – dans un lieu prestigieux et encore secret, au cœur de l’Ile de Nantes, un dîner à couper le souffle et pour les plus rock n’ roll un dance floor ouvert jusqu’au bout de la nuit\nGala dinner at a prestigious, but still secret, location in downtown Nantes, a mouth-watering dinner and afterwards a dance floor for those who want to dance through the night\n\n \nPrenez garde aux traversées d’éléphants ! \nBeware of elephants crossing the road!\n\n\n\nAudencia Homecoming Day s'adresse à toutes les promotions qui célèbrent leur 1, 5, 10, 15, 20, ... 50, 55 ans de promo.\nAudencia Homecoming Day is for all class years celebrating their 1-, 5-, 10-, 15-, 20-,... 50-, 55-year graduation anniversaries.\n\n \n\nThe Audencia Alumni Homecoming Day Team:\naudenciaalumni@audencia.com
BEGIN:VALARM
ACTION:DISPLAY
TRIGGER:-PT60M
DESCRIPTION:Audencia Homecoming Day
END:VALARM
END:VEVENT
END:VCALENDAR