BEGIN:VCALENDAR
VERSION:2.0
X-WR-TIMEZONE:Europe/Paris
PRODID:-//Audencia//NONSGML v1.0//EN
CALSCALE:GREGORIAN
BEGIN:VEVENT
SUMMARY:Atelier Carrière « Organiser sa recherche d’Emploi »
DTSTART:20190711T181500
DTEND:20260426T001309
UID:486
DTSTAMP:20260426T001309
LOCATION:Audencia, 95 rue Falguière, 75015 Paris
DESCRIPTION:Les consultants coachs du Career Center d’Audencia vous proposent une soirée spéciale le jeudi 11 juillet sur le Campus Audencia Paris\nObjectif 1er Emploi !\n\nHoraires et Déroulement de la soirée \n\n\n	18h15 - 19h15 : Atelier Carrière « Organiser sa recherche d’Emploi »\n\nAudencia Careers partage avec vous les fondamentaux pour que votre recherche soit optimisée ! Ce qu’il faut préparer en amont, les erreurs à éviter, ce qui fait la différence ….\n \n\n	A partir de 20h : Cocktail\n\n \n\nModalités d'inscription  \nInscription avant le Vendredi 5 juillet. \n​Votre inscription confirme l’engagement de votre participation ! 
BEGIN:VALARM
ACTION:DISPLAY
TRIGGER:-PT60M
DESCRIPTION:Atelier Carrière « Organiser sa recherche d’Emploi »
END:VALARM
END:VEVENT
END:VCALENDAR