BEGIN:VCALENDAR
VERSION:2.0
X-WR-TIMEZONE:Europe/Paris
PRODID:-//Audencia//NONSGML v1.0//EN
CALSCALE:GREGORIAN
BEGIN:VEVENT
SUMMARY:After Triath' - Triathlon Audencia La Baule - 21 septembre 2019
DTSTART:20190921T180000
DTEND:20190921T210000
UID:513
DTSTAMP:20260424T020744
LOCATION:Monica - Le Clan des Mamma - 24 Boulevard Hennecart - La Baule
DESCRIPTION:Chers diplômé(e)s,\n\nVous êtes inscrit(e) au Challenge Audencia Alumni du 32ème Triathlon Audencia La Baule \nOu vous participez via votre entreprise,\nOu vous venez supporter vos ami(e)s,\nOu tout simplement vous habitez la région,\n\nVenez nous retrouver à l'after Triath'​ !\n \n\nLe samedi 21 septembre 2019\nde 18h à 21h\nAu Resto de plage : MONICA - Le Clan des Mamma\n24 Boulevard Hennecart\n44500 LA BAULE\n \n\nInscriptions en haut à droite\n\nL'équipe Alumni et l'équipe organisatrice du challenge Jérôme (MBA 06), Christian (GE 99) et Ulysse (étudiant)
BEGIN:VALARM
ACTION:DISPLAY
TRIGGER:-PT60M
DESCRIPTION:After Triath' - Triathlon Audencia La Baule - 21 septembre 2019
END:VALARM
END:VEVENT
END:VCALENDAR