BEGIN:VCALENDAR
VERSION:2.0
X-WR-TIMEZONE:Europe/Paris
PRODID:-//Audencia//NONSGML v1.0//EN
CALSCALE:GREGORIAN
BEGIN:VEVENT
SUMMARY:Apply to be part of the Audencia CES Las Vegas & the Silicon Valley Learning Expedition
DTSTART:20191010T235900
DTEND:20260419T152004
UID:535
DTSTAMP:20260419T152004
LOCATION:
DESCRIPTION:\n\n\n\n\n\n\n\n\n\n\n\n\nAre you an entrepreneur and/or a digital guru?\n\nApply to be one of the 6 students to go on the second annual Learning Expedition "Audencia CES Las Vegas & the Silicon Valley". This unique trip is made possible thanks to the generous support of our alumni and friends.\n\nThe selection process is made of two steps : \n\n	You have from September 26th to October 10th at midnight to submit your application. The selection committee will review all applications and make a first round.\n	If you are selected, you will have to pitch your case to the committee on October 23rd. The committee will then make a final selection based on your pitch. If you are not able to be physically present for the pitch, and are selected as a candidate, it is possible to do your pitch via Skype.\n\nTake the time to fill out this application form to be selected to this unique trip.  \n \n>> APPLY HERE <<\n \n\nThis Learning Expedition will occur from January 8 - 15, 2019 with 2 days spent at the CES and 4 days spent in San Francisco and the Silicon Valley. You will get to network with alumni and visit inspiring companies.\n\n \nHere is a video of last year’s LEX CES/Silicon Valley : \n\n\n\n\n\n\n\n\n\n\n\n\n\n \nIf you have any questions, please contact Karyn Mikkelsen-Tillet: kmikkelsen@audencia.com 
BEGIN:VALARM
ACTION:DISPLAY
TRIGGER:-PT60M
DESCRIPTION:Apply to be part of the Audencia CES Las Vegas & the Silicon Valley Learning Expedition
END:VALARM
END:VEVENT
END:VCALENDAR