BEGIN:VCALENDAR
VERSION:2.0
X-WR-TIMEZONE:Europe/Paris
PRODID:-//Audencia//NONSGML v1.0//EN
CALSCALE:GREGORIAN
BEGIN:VEVENT
SUMMARY:Apéritif à l'occasion du festival Web2day
DTSTART:20170608T183000
DTEND:20170608T203000
UID:55
DTSTAMP:20260420T165602
LOCATION:Parc des Chantiers,  Boulevard Léon Bureau,  44200 Nantes
DESCRIPTION:Cette année, l’Alliance Centrale-Audencia-Ensa Nantes est partenaire du festival Web2day les 7, 8 et 9 juin prochains.\nÀ cette occasion, le réseau Audencia Alumni vous invite à partager un moment convivial autour d'un apéritif le jeudi 8 juin à partir de 18h30. Rendez-vous à proximité du chalet Alliance Centrale-Audencia-ENSA Nantes au village exposants.\n\nLe Web2day c’est 3 jours intenses et festifs dédiés aux nouvelles tendances et technologies du moment. C’est une opportunité unique de rencontrer startups, investisseurs, médias, influenceurs et grands comptes dans un cadre exceptionnel et une ambiance décontractée.\n\nAvec près de 200 conférences et workshops, une track dédiée à la technique et au design, un concours de startups, un village exposants, des soirées et un éléphant steampunk, le Web2day est le digital springbreak à ne pas manquer !
BEGIN:VALARM
ACTION:DISPLAY
TRIGGER:-PT60M
DESCRIPTION:Apéritif à l'occasion du festival Web2day
END:VALARM
END:VEVENT
END:VCALENDAR