BEGIN:VCALENDAR
VERSION:2.0
X-WR-TIMEZONE:Europe/Paris
PRODID:-//Audencia//NONSGML v1.0//EN
CALSCALE:GREGORIAN
BEGIN:VEVENT
SUMMARY:Club Assurance - Afterwork
DTSTART:20191204T193000
DTEND:20191204T220000
UID:555
DTSTAMP:20260426T001405
LOCATION:Audencia 95 rue Falguière, 75015 Paris
DESCRIPTION:Chers membres du club assurance,\n \nL’heure du 3ème événement du club a sonné ! Tous à vos agendas : il se déroulera le mercredi 4 décembre à partir de 19h30.\n \nCe sera l’occasion de fêter la fin de l’année ensemble autour d’un cocktail informel et éventuellement quelques présentations (me contacter directement si vous voulez proposer un sujet).\n\nCet événement aura lieu dans les locaux d'Audencia (95 rue Falguière, 75015 Paris) ; plus d’infos à suivre sur LinkedIn ici ou sur Together ici (inscriptions).\n \nUne fois de plus, venez rencontrer et retrouver des Alumni du secteur !\n \nA très vite en décembre,\n \nOriane – Ambassadrice du club\n 
BEGIN:VALARM
ACTION:DISPLAY
TRIGGER:-PT60M
DESCRIPTION:Club Assurance - Afterwork
END:VALARM
END:VEVENT
END:VCALENDAR