BEGIN:VCALENDAR
VERSION:2.0
X-WR-TIMEZONE:Europe/Paris
PRODID:-//Audencia//NONSGML v1.0//EN
CALSCALE:GREGORIAN
BEGIN:VEVENT
SUMMARY:INVITATION - Speed meeting des clubs parisiens - 6 juillet
DTSTART:20170706T193000
DTEND:20170706T230000
UID:56
DTSTAMP:20260420T071908
LOCATION:Campus Paris - 95 rue Falguière - 75015 Paris Métro : Pasteur, Falguière, Vaugirard
DESCRIPTION:Chers diplômés,\n\nVous avez un projet, une idée qui vous tient à cœur ? Vous souhaitez organiser ou contribuer à un événement du Réseau ? Vous souhaitez partager, échanger sur une thématique ? Vous avez envie de vous investir auprès de votre promotion ?\n \nAlors venez à la rencontre des clubs parisiens le jeudi 6 juillet lors d’une soirée festive, décontractée et conviviale sur le Campus Paris. Vous pourrez échanger avec les animateurs des clubs Business, Audencia pour Elles, Culture et Management, RSE, … et vos ambassadeurs de promotion.\n \nFormat de la soirée \n19h30 - 20h : accueil autour d'un verre\n20h00 -20h40 : pitch des communautés : chaque club se présentera en 1 minute (5 mots pour se décrire, sa raison d'être, à qui le club s'adresse, comment le rejoindre, actions et évènements envisagés)\nA partir de 20h40 : rendez-vous sur les stands des communautés qui vous intéressent pour échanger avec les ambassadeurs, découvrir les clubs que vous ne connaissez pas encore et les rejoindre pour impulser vos idées et de nouveaux projets  en tant que membre ou bénévole.\n\nDynamisez vos communautés et participez à la richesse de votre Réseau !\nNous vous attendons nombreux le 6 juillet prochain.\n\n\nLes Clubs Paris et l’équipe Audencia Alumni
BEGIN:VALARM
ACTION:DISPLAY
TRIGGER:-PT60M
DESCRIPTION:INVITATION - Speed meeting des clubs parisiens - 6 juillet
END:VALARM
END:VEVENT
END:VCALENDAR