BEGIN:VCALENDAR
VERSION:2.0
X-WR-TIMEZONE:Europe/Paris
PRODID:-//Audencia//NONSGML v1.0//EN
CALSCALE:GREGORIAN
BEGIN:VEVENT
SUMMARY:Rendez-vous Petit-déjeuner / Breakfast Meet
DTSTART:20191119T083000
DTEND:20191119T093000
UID:573
DTSTAMP:20260420T054416
LOCATION:Audencia Campus Paris 95 rue Falguière 75015 Paris
DESCRIPTION:Le personnel du Campus Paris est ravi de vous inviter à son premier rendez-vous « petit-déjeuner » le mardi 19 novembre de 8h30 à 9h30.\n\nVenez partager un petit moment de douceur et d’échange avec les étudiants et nous autour d’une boisson chaude, des viennoiseries et des fruits avant de démarrer votre journée.\n\nC’est une première… on vous attend nombreux !\n\n*****\n\nThe Paris Campus staff is delighted to invite you to its first "breakfast" meeting on Tuesday, 19th November from 8:30 to 9:30 am.\n\nCome and share a moment of sweetness and exchange with the students and us over a hot drink, pastries and fruits before starting your day.\n\nThis is a first... we are expecting many of you!
BEGIN:VALARM
ACTION:DISPLAY
TRIGGER:-PT60M
DESCRIPTION:Rendez-vous Petit-déjeuner / Breakfast Meet
END:VALARM
END:VEVENT
END:VCALENDAR