BEGIN:VCALENDAR
VERSION:2.0
X-WR-TIMEZONE:Europe/Paris
PRODID:-//Audencia//NONSGML v1.0//EN
CALSCALE:GREGORIAN
BEGIN:VEVENT
SUMMARY:Go France! Launch in Paris
DTSTART:20200206T190000
DTEND:20200206T220000
UID:583
DTSTAMP:20260423T151613
LOCATION:Audencia Paris Campus 95 Rue Falguière, 75015 Paris
DESCRIPTION:Go France!\n\nAudencia published the Go France Guide in 2019 as a resource for internationals considering a career in France after their studies. Starting with HR professionals’ top tips and debunking the myths and realities of the workplace, Go France also showcases the experiences of international alumni who have aced the challenge of finding a job in France.\n\nCome and join the launch event which aims to bring the conversation live:\n\n	Date: Thursday 6 February 2020\n	Time: From 19:00\n	Venue: Audencia Paris Campus, 95 rue Falguière, Paris 75015\n\n\nDiversity in the workplace is recognised by many studies as an undeniable advantage for organizations, how is it actually achieved? How do talent acquisition professionals approach the recruitment of international students in their teams? What are the best ways for international students to equip themselves in their search for a job in France? \n\nCome and learn about companies that manage efficient selection, interview and onboarding processes and international Audencia Alumni who have been through them.\n\n \nProgramme\n\n19:00 Registration\n\n19:30 Conversation with talent acquisition professionals\n\nMODERATOR: Pauline Warlet, International Content Manager, Welcome to the Jungle \n\nSPEAKERS\n\n	Anne-Marie Husser, HR Director France-Luxembourg, Amazon (Alumna, GE 90)\n	Lorène Chenard, Talent Development Manager, Valeo \n	Véronique Denant, Associate Director and Coach, ALPHEE \n	Anahid Hanimyan, Senior Head Hunter IT/Telecom, PLES Convergence\n	Lorena Rodriguez Mendoza, Salesforce Alliance Manager, IBM (Alumna, IMM 12)\n	Nancy Yinan Guan, Product Manager, Curver (Alumna, IMM 18)\n\n\n21:00 Refreshments  \n\n
BEGIN:VALARM
ACTION:DISPLAY
TRIGGER:-PT60M
DESCRIPTION:Go France! Launch in Paris
END:VALARM
END:VEVENT
END:VCALENDAR