BEGIN:VCALENDAR
VERSION:2.0
X-WR-TIMEZONE:Europe/Paris
PRODID:-//Audencia//NONSGML v1.0//EN
CALSCALE:GREGORIAN
BEGIN:VEVENT
SUMMARY:Webinar: The danger of the work-life balance
DTSTART:20200429T133000
DTEND:20200429T143000
UID:599
DTSTAMP:20260425T153429
LOCATION:
DESCRIPTION:The danger of work life balance\n\nDate: 29 April 2020\nTime: 13:30-14:30 PARIS TIME\nIt is critical to understand why those of us, especially in prosperous countries with high living standards, continue to get sick, particularly due to work-related stress.\n\nMorten Albaek attacks the idea of ‘work-life balance’ and advocates that we have lost our ability to distinguish between satisfaction, happiness and meaning.\n\nThe most read philosophical book in Denmark in 2018 and 2019, Morten’s book One Life advocates that we should see ourselves as ‘one human being’ with one life that should be as meaningful as possible. This webinar will explore why meaning – not happiness – is the most important ingredient in our lives, businesses and society. \nAbout the speaker\nMorten is a Danish Philosopher, Business Executive, Honorary Professor, Bestselling Author and Public Speaker. He is the Founder of advisory firm Voluntas, specialising in culture, strategies and investments that create a meaningful impact, and he has been selected five times for The Internationalist’s list of the 100 Most Influential CMOs in the World (2011-2015) as the only Scandinavian. \n\n \nTo join the webinar\nREGISTER HERE\n \n\nDid you graduate from an AMBA-accredited programme at Audencia?\nThis webinar is accessible to students or alumni of an AMBA-accredited programme at Audencia, i.e., Executive MBA, EuroMBA, Full-Time MBA or Master in Management (Grande Ecole Programme), but registration is required. Registering as an alum of an AMBA-accredited programme takes only a few minutes.\nThis event is free for AMBA members to attend but registration is required using the link above.
BEGIN:VALARM
ACTION:DISPLAY
TRIGGER:-PT60M
DESCRIPTION:Webinar: The danger of the work-life balance
END:VALARM
END:VEVENT
END:VCALENDAR