BEGIN:VCALENDAR
VERSION:2.0
X-WR-TIMEZONE:Europe/Paris
PRODID:-//Audencia//NONSGML v1.0//EN
CALSCALE:GREGORIAN
BEGIN:VEVENT
SUMMARY:Webinar: Patrick McGinnis on making good career decisions
DTSTART:20200422T193000
DTEND:20200422T203000
UID:620
DTSTAMP:20260425T153410
LOCATION:
DESCRIPTION:We are used to the idea that having options is a good thing. But too many choices, and too much information, can easily get us stuck: we wait so long for a perfect next step that we risk missing out altogether.\n\nIn this webinar, venture capitalist and author Patrick McGinnis explains how to avoid analysis paralysis and make good decisions about important life and career choices.\n\nWe will discuss:\n\n• How to make, and not regret, big career decisions\n• How a little FOMO (fear of missing out) can be a good thing\n• The value of discarding choices and reducing distractions\n• Why action trumps options\n• The 3 simple, yet powerful, techniques to becoming decisive\n\nWe will also explore how to become more decisive in general and learn to commit to what you want (and have the courage to miss out on the rest).\n \n\nREGISTER HERE (use code "audstudent" if ticket does not show)\n \n\n \n\nTHIS WEBINAR HAS SOLD OUT!\nIf you are interested in accessing the replay, and more resources\ncheck out the webinar library\nNB: You have to be logged in to your together.audencia.com account first\n\n \n\nAll participants receive\n\n\n	Access to the webinar and the chance to ask questions live\n	Catch-up recording of the webinar\n	A bonus materials resource pack including slides and support materials.\n\n\n \n\n
BEGIN:VALARM
ACTION:DISPLAY
TRIGGER:-PT60M
DESCRIPTION:Webinar: Patrick McGinnis on making good career decisions
END:VALARM
END:VEVENT
END:VCALENDAR